BEGIN:VCALENDAR
VERSION:2.0
PRODID:icalendar-ruby
CALSCALE:GREGORIAN
METHOD:PUBLISH
BEGIN:VEVENT
DTSTAMP:20260423T112802Z
UID:353-331190@chesleycommunitychurch.ca
DTSTART:20260502T140000Z
DTEND:20260502T153000Z
CLASS:PUBLIC
CREATED:20260414T162717
DESCRIPTION:
LAST-MODIFIED:20260414T162717
LOCATION:Chesley Community Church 307 1st Avenue\, N\, Chesley\, ON\, N0G 1
 L0
SUMMARY:Treasurer Seekers
URL;VALUE=URI:https://www.chesleycommunitychurch.ca/events/treasurer-seeker
 s--353/2026-05-02
ATTACH;FILENAME=TS  may (Presentation).jpg;FMTTYPE=image/jpeg:https://dq5pw
 pg1q8ru0.cloudfront.net/2026/04/14/20/27/17/1431b176-1991-4697-ba8d-88693e
 c44b31/TS%20%20may%20(Presentation).jpg
END:VEVENT
END:VCALENDAR
