BEGIN:VCALENDAR
VERSION:2.0
PRODID:icalendar-ruby
CALSCALE:GREGORIAN
METHOD:PUBLISH
BEGIN:VEVENT
DTSTAMP:20260420T023503Z
UID:359-334747@chesleycommunitychurch.ca
DTSTART;VALUE=DATE:20260419
DTEND;VALUE=DATE:20260425
CLASS:PUBLIC
CREATED:20260419T153654
DESCRIPTION:
LAST-MODIFIED:20260419T153654
LOCATION:
SUMMARY:Sunday Morning Message
URL;VALUE=URI:https://www.chesleycommunitychurch.ca/events/sunday-morning-m
 essage--359/2026-04-19
ATTACH;FILENAME=sun morn svc.jfif;FMTTYPE=image/jpeg:https://dq5pwpg1q8ru0.
 cloudfront.net/2026/04/19/19/36/54/7f6930aa-458b-4295-9610-3aab18944af1/su
 n%20morn%20svc.jfif
END:VEVENT
END:VCALENDAR
