BEGIN:VCALENDAR
VERSION:2.0
PRODID:icalendar-ruby
CALSCALE:GREGORIAN
METHOD:PUBLISH
BEGIN:VEVENT
DTSTAMP:20260423T100351Z
UID:355-331195@chesleycommunitychurch.ca
DTSTART:20260428T173000Z
DTEND:20260428T200000Z
CLASS:PUBLIC
CREATED:20260414T163350
DESCRIPTION:
LAST-MODIFIED:20260414T163350
LOCATION:Chesley Community Church 307 1st Avenue N\, Chesley\, ON\, N0G 1L0
SUMMARY:Crokinole
URL;VALUE=URI:https://www.chesleycommunitychurch.ca/events/crokinole--355/2
 026-04-28
ATTACH;FILENAME=crokinole  (320 x 160 px) (Presentation).jpg;FMTTYPE=image/
 jpeg:https://dq5pwpg1q8ru0.cloudfront.net/2026/04/14/20/32/09/5668602b-68f
 3-417c-8cb2-21f75bc1d28b/crokinole%20%20(320%20x%20160%20px)%20(Presentati
 on).jpg
END:VEVENT
END:VCALENDAR
